Workbook
Name _Hlk34300669: May!$K$69
Name Component: "Group"
Name FX_RATE: May!$C$249
Name pbCountingPages: FALSE

Sheet May
A1: MONTHLY UPDATE ON REGISTERED MUTUAL FUNDS AS AT 31ST MAY, 2026
A2: S/N | B2: FUND | C2: FUND MANAGER | D2: TOTAL VALUE OF INVESTMENT (N) | E2: TOTAL INCOME (N) | F2: UNREALIZED CAPITAL GAIN/LOSS (N) | G2: TOTAL EXPENSES (N) | H2: NET INCOME/LOSS (N) | I2: NET ASSET VALUE (N) PREVIOUS - APRIL | J2: % ON TOTAL | K2: NET ASSET VALUE (N) | L2: % ON TOTAL | M2: % CHANGE IN NAV | N2: EXPENSE RATIO | O2: RETURN ON EQUITY (ROE) | P2: NET ASSET PER UNIT | Q2: EARNINGS PER UNIT (EPU) | R2: BID PRICE (N) | S2: OFFER PRICE (N) | T2: NUMBER OF UNIT HOLDERS | U2: OPENING NUMBER OF UNITS | V2: CLOSING NUMBER OF UNITS
A4: EQUITY BASED FUNDS
A5: 1 | B5: Afrinvest Equity Fund | C5: Afrinvest Asset Management Ltd. | D5: 1.5358171e+10 | E5: 3119876.5 | F5: 4.7200606e+09 | G5: 25065639 | H5: =(E5+F5)-G5 -> 4.6981148e+09 | I5: 1.3510519e+10 | J5: =(I5/$I$25) -> 0.057357002 | K5: 1.5450535e+10 | L5: =(K5/$K$25) -> 0.058961147 | M5: =((K5-I5)/I5) -> 0.14359301 | N5: =(G5/K5) -> 0.0016223153 | O5: =H5/K5 -> 0.30407458 | P5: =K5/V5 -> 930.51026 | Q5: =H5/V5 -> 282.94451 | R5: 930.51 | S5: 937.92 | T5: 1722 | U5: 14666706 | V5: 16604368
A6: 2 | B6: Anchoria Equity Fund | C6: Anchoria Asset Management Limited | D6: 2.626272e+09 | E6: 3145268.5 | F6: 8.24596e+08 | G6: 3347309.6 | H6: =(E6+F6)-G6 -> 8.2439396e+08 | I6: 2.3317524e+09 | J6: =(I6/$I$25) -> 0.0098991259 | K6: 2.6678108e+09 | L6: =(K6/$K$25) -> 0.010180695 | M6: =((K6-I6)/I6) -> 0.14412269 | N6: =(G6/K6) -> 0.0012547028 | O6: =H6/K6 -> 0.30901515 | P6: =K6/V6 -> 637.7547 | Q6: =H6/V6 -> 197.07586 | R6: 931.51 | S6: 641.48 | T6: 625 | U6: 3758831.4 | V6: 4183130
A7: 3 | B7: ARM Aggressive Growth Fund | C7: ARM Investment Managers Limited | D7: 14051044499 | E7: 294056572 | F7: 2135992827 | G7: 60781489 | H7: =(E7+F7)-G7 -> 2369267910 | I7: 18230982660 | J7: =(I7/$I$25) -> 0.077397066 | K7: 18230982660 | L7: =(K7/$K$25) -> 0.069571679 | M7: =((K7-I7)/I7) -> 0 | N7: =(G7/K7) -> 0.0033339667 | O7: =H7/K7 -> 0.12995832 | P7: =K7/V7 -> 78.088885 | Q7: =H7/V7 -> 10.1483 | R7: 932.51 | S7: 80.0411 | T7: 11145 | U7: 196870244 | V7: 233464501
A8: 4 | B8: AXA Mansard Equity Income Fund | C8: AXA Mansard Investments Limited | D8: 2.6394082e+09 | E8: 25404059 | F8: 0 | G8: 5318224.8 | H8: =(E8+F8)-G8 -> 20085835 | I8: 3.2835013e+09 | J8: =(I8/$I$25) -> 0.013939642 | K8: 3.2497877e+09 | L8: =(K8/$K$25) -> 0.012401591 | M8: =((K8-I8)/I8) -> -0.010267564 | N8: =(G8/K8) -> 0.0016364838 | O8: =H8/K8 -> 0.0061806605 | P8: =K8/V8 -> 382.14522 | Q8: =H8/V8 -> 2.3619098 | R8: 933.51 | S8: 384.0559 | T8: 2678 | U8: 8699431.9 | V8: 8504064.9
A9: 5 | B9: CardinalStone Equity Fund | C9: CardinalStone Asset Mgt. Limited | D9: 1.2303589e+10 | E9: 2.480641e+08 | F9: 5.6711683e+08 | G9: 14979727 | H9: =(E9+F9)-G9 -> 8.002012e+08 | I9: 1.141775e+10 | J9: =(I9/$I$25) -> 0.04847245 | K9: 1.2549063e+10 | L9: =(K9/$K$25) -> 0.047888772 | M9: =((K9-I9)/I9) -> 0.099083658 | N9: =(G9/K9) -> 0.0011936929 | O9: =H9/K9 -> 0.063765813 | P9: =K9/V9 -> 3.0537939 | Q9: =H9/V9 -> 0.19472765 | R9: 934.51 | S9: 3.0184 | T9: 2643 | U9: 3.6312398e+09 | V9: 4.1093353e+09
A10: 6 | B10: Cowry Equity Fund | C10: Cowry Treasurers Limited | D10: 6.8321144e+08 | E10: 2523839.9 | F10: 2.631598e+08 | G10: 1260772 | H10: =(E10+F10)-G10 -> 2.6442287e+08 | I10: 7.6862049e+08 | J10: =(I10/$I$25) -> 0.0032630699 | K10: 7.7814985e+08 | L10: =(K10/$K$25) -> 0.0029695158 | M10: =((K10-I10)/I10) -> 0.012398007 | N10: =(G10/K10) -> 0.0016202175 | O10: =H10/K10 -> 0.3398097 | P10: =K10/V10 -> 324.13693 | Q10: =H10/V10 -> 110.14487 | R10: 935.51 | S10: 324.14 | T10: 196 | U10: 2283756 | V10: 2400682.5
A11: 7 | B11: FCMBAM Equity Fund | C11: FCMB Asset Management Limited | D11: 4.3477526e+09 | E11: 30285848 | F11: 0 | G11: 7525770.3 | H11: =(E11+F11)-G11 -> 22760078 | I11: 4.2313323e+09 | J11: =(I11/$I$25) -> 0.017963525 | K11: 4.3232518e+09 | L11: =(K11/$K$25) -> 0.016498062 | M11: =((K11-I11)/I11) -> 0.021723519 | N11: =(G11/K11) -> 0.0017407661 | O11: =H11/K11 -> 0.0052645737 | P11: =K11/V11 -> 8.4927579 | Q11: =H11/V11 -> 0.044710749 | R11: 936.51 | S11: 8.55 | T11: 3817 | U11: 504556197 | V11: 5.0905158e+08
A12: 8 | B12: First Asset Nigeria Smart Beta Equity Fund | C12: First Asset Management Limited | D12: 6.8372138e+09 | E12: 15685096 | F12: 83131776 | G12: 11148837 | H12: =(E12+F12)-G12 -> 87668036 | I12: 6.2298284e+09 | J12: =(I12/$I$25) -> 0.026447858 | K12: 6.755317e+09 | L12: =(K12/$K$25) -> 0.025779123 | M12: =((K12-I12)/I12) -> 0.084350409 | N12: =(G12/K12) -> 0.0016503795 | O12: =H12/K12 -> 0.012977635 | P12: =K12/V12 -> 645.27349 | Q12: =H12/V12 -> 8.3741237 | R12: 937.51 | S12: 654.41 | T12: 2801 | U12: 10021515 | V12: 10468921
A13: 9 | B13: Frontier Fund | C13: SCM Capital Limited | D13: 6.7425396e+08 | E13: 19736459 | F13: 1.8190923e+08 | G13: 1942410.1 | H13: =(E13+F13)-G13 -> 1.9970328e+08 | I13: 6.4872439e+08 | J13: =(I13/$I$25) -> 0.0027540679 | K13: 6.4558774e+08 | L13: =(K13/$K$25) -> 0.0024636425 | M13: =((K13-I13)/I13) -> -0.0048350964 | N13: =(G13/K13) -> 0.0030087468 | O13: =H13/K13 -> 0.30933562 | P13: =K13/V13 -> 322.47543 | Q13: =H13/V13 -> 99.753135 | R13: 938.51 | S13: 334.1 | T13: 2475 | U13: 2001975 | V13: 2001975
A14: 10 | B14: Futureview Equity Fund | C14: Futureview Asset Management Limited | D14: 1.4859903e+08 | E14: 1218079.1 | F14: 47397262 | G14: 5006202 | H14: =(E14+F14)-G14 -> 43609139 | I14: 1.4757986e+08 | J14: =(I14/$I$25) -> 0.00062652949 | K14: 1.5803941e+08 | L14: =(K14/$K$25) -> 0.00060309788 | M14: =((K14-I14)/I14) -> 0.070873812 | N14: =(G14/K14) -> 0.031676922 | O14: =H14/K14 -> 0.27593838 | P14: =K14/V14 -> 529.70269 | Q14: =H14/V14 -> 146.1653 | R14: 939.51 | S14: 537.52 | T14: 43 | U14: 283903.98 | V14: 298354.93
A15: 11 | B15: Guaranty Trust Equity Income Fund | C15: Guaranty Trust Fund Managers Limited | D15: 2.4943891e+10 | E15: 79997683 | F15: 2.066992e+08 | G15: 40968686 | H15: =(E15+F15)-G15 -> 2.457282e+08 | I15: 2.05434e+10 | J15: =(I15/$I$25) -> 0.08721411 | K15: 2.4295875e+10 | L15: =(K15/$K$25) -> 0.092716056 | M15: =((K15-I15)/I15) -> 0.18266083 | N15: =(G15/K15) -> 0.0016862404 | O15: =H15/K15 -> 0.010113988 | P15: =K15/V15 -> 6.0337134 | Q15: =H15/V15 -> 0.061024907 | R15: 940.51 | S15: 6.09 | T15: 11444 | U15: 3.4126592e+09 | V15: 4.026687e+09
A16: 12 | B16: Halo Equity Fund | C16: Halo Nigeria Capital Management Limited | D16: 3.9557058e+08 | E16: 89991136 | F16: 0 | G16: 1607362.8 | H16: =(E16+F16)-G16 -> 88383773 | I16: 5.6573086e+08 | J16: =(I16/$I$25) -> 0.0024017306 | K16: 5.5714856e+08 | L16: =(K16/$K$25) -> 0.0021261476 | M16: =((K16-I16)/I16) -> -0.015170295 | N16: =(G16/K16) -> 0.0028849807 | O16: =H16/K16 -> 0.15863592 | P16: =K16/V16 -> 47.355526 | Q16: =H16/V16 -> 7.5122873 | R16: 941.51 | S16: 47.240208 | T16: 117 | U16: 12048242 | V16: 11765228
... A24: 20 | B24: Zrosk Magna Equity Fund | C24: Zrosk Investment Management Limited | D24: 22095266624 | E24: 77156594 | F24: 2.1796439e+08 | G24: 45901419 | H24: =(E24+F24)-G24 -> 2.4921956e+08 | I24: 20729669754 | J24: =(I24/$I$25) -> 0.08800489 | K24: 23268501583 | L24: =(K24/$K$25) -> 0.088795472 | M24: =((K24-I24)/I24) -> 0.12247334 | N24: =(G24/K24) -> 0.0019726848 | O24: =H24/K24 -> 0.010710598 | P24: =K24/V24 -> 364.19597 | Q24: =H24/V24 -> 3.9007566 | R24: 949.51 | S24: 366.53 | T24: 163 | U24: 57888707 | V24: 63890057
A25: Sub Total | I25: =SUM(I5:I24) -> 2.3555134e+11 | J25: =(I25/$I$247) -> 0.026527655 | K25: =SUM(K5:K24) -> 2.6204604e+11 | L25: =(K25/$K$247) -> 0.028940499 | M25: =((K25-I25)/I25) -> 0.1124795 | T25: =SUM(T5:T24) -> 101141
A27: MONEY MARKET FUNDS
A28: 21 | B28: Afrinvest Plutus Fund | C28: Afrinvest Asset Management Ltd. | D28: 6.0917077e+09 | E28: 89488155 | F28: 0 | G28: 11478496 | H28: =(E28+F28)-G28 -> 78009659 | I28: 6.1263865e+09 | J28: =(I28/$I$75) -> 0.0010756663 | K28: 5.8923436e+09 | L28: =(K28/$K$75) -> 0.0010096339 | M28: =((K28-I28)/I28) -> -0.038202441 | N28: =(G28/K28) -> 0.0019480358 | O28: =H28/K28 -> 0.013239157 | P28: =K28/V28 -> 100.26045 | Q28: =H28/V28 -> 1.3273638 | R28: 100 | S28: 100 | T28: 924 | U28: 61075850 | V28: 58770370
A29: 22 | B29: AIICO Money Market Fund | C29: AIICO Capital Ltd | D29: 3.8214568e+10 | E29: 7.1990786e+08 | F29: 0 | G29: 67140681 | H29: =(E29+F29)-G29 -> 6.5276718e+08 | I29: 4.0162857e+10 | J29: =(I29/$I$75) -> 0.0070517641 | K29: 4.0910525e+10 | L29: =(K29/$K$75) -> 0.0070098852 | M29: =((K29-I29)/I29) -> 0.018615899 | N29: =(G29/K29) -> 0.0016411591 | O29: =H29/K29 -> 0.015955972 | P29: =K29/V29 -> 102.85652 | Q29: =H29/V29 -> 1.6411757 | R29: 100 | S29: 100 | T29: 4982 | U29: 4.0443264e+08 | V29: 3.9774364e+08
A30: 23 | B30: Alpha10 Money Market Fund | C30: Alpha10 Fund Management Limited | D30: 1.2325242e+09 | E30: 28073290 | F30: 0 | G30: 3162294.7 | H30: =(E30+F30)-G30 -> 24910996 | I30: 1.8463293e+09 | J30: =(I30/$I$75) -> 0.00032417711 | K30: 1.6985068e+09 | L30: =(K30/$K$75) -> 0.00029103362 | M30: =((K30-I30)/I30) -> -0.080062906 | N30: =(G30/K30) -> 0.0018618086 | O30: =H30/K30 -> 0.014666409 | P30: =K30/V30 -> 0.9959124 | Q30: =H30/V30 -> 0.014606459 | R30: 1 | S30: 1 | T30: 196 | U30: 1853181243 | V30: 1705478144
A31: 24 | B31: Anchoria Money Market Fund | C31: Anchoria Asset Management Limited | D31: 3.5526819e+09 | E31: 50128964 | F31: 0 | G31: 4573130.6 | H31: =(E31+F31)-G31 -> 45555833 | I31: 3.374218e+09 | J31: =(I31/$I$75) -> 0.00059244264 | K31: 3.612153e+09 | L31: =(K31/$K$75) -> 0.00061893066 | M31: =((K31-I31)/I31) -> 0.070515599 | N31: =(G31/K31) -> 0.0012660401 | O31: =H31/K31 -> 0.012611823 | P31: =K31/V31 -> 127.37841 | Q31: =H31/V31 -> 1.6064739 | R31: 100 | S31: 100 | T31: 1971 | U31: 26880323 | V31: 28357655
A32: 25 | B32: Apel Wealth Money Market Fund | C32: Apel Wealth Management Limited | D32: 4.8038843e+08 | E32: 33192627 | F32: 0 | G32: 3341618.2 | H32: =(E32+F32)-G32 -> 29851009 | I32: 1.8463293e+09 | J32: =(I32/$I$75) -> 0.00032417711 | K32: 1.3806697e+09 | L32: =(K32/$K$75) -> 0.00023657326 | M32: =((K32-I32)/I32) -> -0.25220831 | N32: =(G32/K32) -> 0.0024202879 | O32: =H32/K32 -> 0.021620673 | P32: =K32/V32 -> 100 | Q32: =H32/V32 -> 2.1620673 | R32: 1 | S32: 1 | T32: 161 | U32: 9551977.3 | V32: 13806697
A33: 26 | B33: ARM Money Market Fund | C33: ARM Investment Managers Limited | D33: 152219894236 | E33: 6055222727 | F33: 0 | G33: 6055222727 | H33: =(E33+F33)-G33 -> 0 | I33: 405313077838 | J33: =(I33/$I$75) -> 0.071164563 | K33: 405313077838 | L33: =(K33/$K$75) -> 0.069449076 | M33: =((K33-I33)/I33) -> 0 | N33: =(G33/K33) -> 0.014939618 | O33: =H33/K33 -> 0 | P33: =K33/V33 -> 1 | Q33: =H33/V33 -> 0 | R33: 1 | S33: 1 | T33: 84170 | U33: 390223685451 | V33: 405313077838
A34: 27 | B34: AVA GAM Money Market Fund | C34: AVA Global Asset Managers Limited | D34: 1.261698e+09 | E34: 39632925 | F34: 0 | G34: 4859462.6 | H34: =(E34+F34)-G34 -> 34773463 | I34: 2.3678558e+09 | J34: =(I34/$I$75) -> 0.00041574633 | K34: 2.1463378e+09 | L34: =(K34/$K$75) -> 0.000367768 | M34: =((K34-I34)/I34) -> -0.093552138 | N34: =(G34/K34) -> 0.0022640716 | O34: =H34/K34 -> 0.0162013 | P34: =K34/V34 -> 0.95744918 | Q34: =H34/V34 -> 0.015511921 | R34: 1 | S34: 1 | T34: 418 | U34: 2450259460 | V34: 2241725075
A35: 28 | B35: AXA Mansard Money Market Fund | C35: AXA Mansard Investments Limited | D35: 4.887641e+10 | E35: 2.5120799e+09 | F35: 0 | G35: 2.3798674e+08 | H35: =(E35+F35)-G35 -> 2.2740932e+09 | I35: 1.727699e+11 | J35: =(I35/$I$75) -> 0.030334808 | K35: 1.727699e+11 | L35: =(K35/$K$75) -> 0.02960356 | M35: =((K35-I35)/I35) -> 0 | N35: =(G35/K35) -> 0.001377478 | O35: =H35/K35 -> 0.013162554 | P35: =K35/V35 -> 1.0261517 | Q35: =H35/V35 -> 0.013506778 | R35: 1 | S35: 1 | T35: 40594 | U35: 1.7185612e+11 | V35: 1.6836682e+11
A36: 29 | B36: CardinalStone Money Market Fund | C36: CardinalStone Asset Mgt. Limited | D36: 2.9088225e+10 | E36: 4.1761075e+08 | F36: 0 | G36: 36282431 | H36: =(E36+F36)-G36 -> 3.8132832e+08 | I36: 2.7010534e+10 | J36: =(I36/$I$75) -> 0.0047424891 | K36: 2.8576468e+10 | L36: =(K36/$K$75) -> 0.0048964847 | M36: =((K36-I36)/I36) -> 0.057974945 | N36: =(G36/K36) -> 0.0012696611 | O36: =H36/K36 -> 0.013344138 | P36: =K36/V36 -> 1 | Q36: =H36/V36 -> 0.013344138 | R36: 1 | S36: 1 | T36: 1947 | U36: 2.7010534e+10 | V36: 2.8576468e+10
A37: 30 | B37: Chapel Hill Denham Money Market Fund | C37: Chapel Hill Denham Mgt. Limited | D37: 4.0772355e+10 | E37: 5.8173518e+08 | F37: 0 | G37: 68347577 | H37: =(E37+F37)-G37 -> 5.133876e+08 | I37: 3.9913423e+10 | J37: =(I37/$I$75) -> 0.0070079686 | K37: 3.9645317e+10 | L37: =(K37/$K$75) -> 0.006793096 | M37: =((K37-I37)/I37) -> -0.0067171754 | N37: =(G37/K37) -> 0.001723976 | O37: =H37/K37 -> 0.012949514 | P37: =K37/V37 -> 100.00029 | Q37: =H37/V37 -> 1.2949552 | R37: 100 | S37: 100 | T37: 10728 | U37: 3.9913285e+08 | V37: 3.9645202e+08
A38: 31 | B38: Comercio Partners Money Market Fund | C38: Comercio Partners Asset Management Limited | D38: 3.4224063e+09 | E38: 1.0182596e+08 | F38: 0 | G38: 4836380.2 | H38: =(E38+F38)-G38 -> 96989580 | I38: 3.8328317e+09 | J38: =(I38/$I$75) -> 0.00067296569 | K38: 3.2955867e+09 | L38: =(K38/$K$75) -> 0.00056468805 | M38: =((K38-I38)/I38) -> -0.14016921 | N38: =(G38/K38) -> 0.0014675324 | O38: =H38/K38 -> 0.02943014 | P38: =K38/V38 -> 0.99862596 | Q38: =H38/V38 -> 0.029389702 | R38: 1 | S38: 1 | T38: 766 | U38: 3.8270944e+09 | V38: 3.3001212e+09
A39: 32 | B39: Coral Money Market Fund | C39: FSDH Asset Management Ltd | D39: 1.0507484e+11 | E39: 1.5403452e+09 | F39: 0 | G39: 1.6632435e+08 | H39: =(E39+F39)-G39 -> 1.3740208e+09 | I39: 9.7973286e+10 | J39: =(I39/$I$75) -> 0.017202075 | K39: 1.0200774e+11 | L39: =(K39/$K$75) -> 0.017478695 | M39: =((K39-I39)/I39) -> 0.04117915 | N39: =(G39/K39) -> 0.0016305071 | O39: =H39/K39 -> 0.01346977 | P39: =K39/V39 -> 100 | Q39: =H39/V39 -> 1.346977 | R39: 100 | S39: 100 | T39: 6276 | U39: 9.7973286e+08 | V39: 1.0200774e+09
... A49: 42 | B49: FSL Money Market Fund | C49: FSL Asset Management Limited | D49: 5.4265075e+09 | E49: 84512805 | F49: 0 | G49: 6841271.7 | H49: =(E49+F49)-G49 -> 77671534 | I49: 5126533258 | J49: =(I49/$I$75) -> 0.00090011283 | K49: 5.7477457e+09 | L49: =(K49/$K$75) -> 0.0009848575 | M49: =((K49-I49)/I49) -> 0.12117593 | N49: =(G49/K49) -> 0.001190253 | O49: =H49/K49 -> 0.013513391 | P49: =K49/V49 -> 1.0124772 | Q49: =H49/V49 -> 0.013682 | R49: 1 | S49: 1 | T49: 876 | U49: 5.1347722e+09 | V49: 5.6769136e+09
A50: 43 | B50: Fundvine Money Market Fund | C50: Fundvine Berkshire Asset Management Limited | E50: 50400000 | F50: 0 | G50: 0 | H50: =(E50+F50)-G50 -> 50400000 | I50: 8498998.6 | J50: =(I50/$I$75) -> 1.4922477e-06 | K50: 8498998.6 | L50: =(K50/$K$75) -> 1.4562757e-06 | M50: =((K50-I50)/I50) -> 0 | N50: =(G50/K50) -> 0 | O50: =H50/K50 -> 5.9301104 | P50: =K50/V50 -> 0.0079928788 | Q50: =H50/V50 -> 0.047398654 | R50: 1 | S50: 1 | T50: 24 | U50: 1000000000 | V50: 1.0633213e+09
A51: 44 | B51: GDL Money Market Fund | C51: Growth and Development Asset Management Limited | D51: 2.219415e+09 | E51: 30376687 | F51: 0 | G51: 1790839.1 | H51: =(E51+F51)-G51 -> 28585848 | I51: 2.0277166e+09 | J51: =(I51/$I$75) -> 0.00035602494 | K51: 2.1452897e+09 | L51: =(K51/$K$75) -> 0.0003675884 | M51: =((K51-I51)/I51) -> 0.057983014 | N51: =(G51/K51) -> 0.00083477727 | O51: =H51/K51 -> 0.013324936 | P51: =K51/V51 -> 10.140564 | Q51: =H51/V51 -> 0.13512236 | R51: 10 | S51: 10 | T51: 566 | U51: 201788292 | V51: 211555271
A52: 45 | B52: Greenwich Plus Money Market | C52: Greenwich Asst Management Ltd | D52: 4.3341256e+09 | E52: 4.4497035e+08 | F52: 0 | G52: 29066621 | H52: =(E52+F52)-G52 -> 4.1590373e+08 | I52: 1.4144972e+10 | J52: =(I52/$I$75) -> 0.0024835635 | K52: 1.3379146e+10 | L52: =(K52/$K$75) -> 0.0022924731 | M52: =((K52-I52)/I52) -> -0.054141233 | N52: =(G52/K52) -> 0.0021725318 | O52: =H52/K52 -> 0.03108597 | P52: =K52/V52 -> 99.44303 | Q52: =H52/V52 -> 3.091283 | R52: 100 | S52: 100 | T52: 2024 | U52: 142787531 | V52: 134540812
A53: 46 | B53: GTI Money Market Fund | C53: GTI Asset Management & Trust Limited | D53: 1.5145481e+08 | E53: 2344718.8 | F53: 0 | G53: 200145.05 | H53: =(E53+F53)-G53 -> 2144573.7 | I53: 1.5115562e+08 | J53: =(I53/$I$75) -> 2.6539789e-05 | K53: 1.5015979e+08 | L53: =(K53/$K$75) -> 2.5729392e-05 | M53: =((K53-I53)/I53) -> -0.0065880732 | N53: =(G53/K53) -> 0.0013328804 | O53: =H53/K53 -> 0.014281944 | P53: =K53/V53 -> 1.0292583 | Q53: =H53/V53 -> 0.014699809 | R53: 1 | S53: 1 | T53: 147 | U53: 1.2720479e+08 | V53: 1.4589126e+08
A54: 47 | B54: Guaranty Trust Investment Fund 724 | C54: Guaranty Trust Fund Managers Limited | D54: 3.1958606e+09 | E54: 39962623 | F54: 0 | G54: 3437540.6 | H54: =(E54+F54)-G54 -> 36525082 | I54: 2.4915039e+09 | J54: =(I54/$I$75) -> 0.00043745637 | K54: 3.146265e+09 | L54: =(K54/$K$75) -> 0.00053910226 | M54: =((K54-I54)/I54) -> 0.26279755 | N54: =(G54/K54) -> 0.0010925782 | O54: =H54/K54 -> 0.011609029 | P54: =K54/V54 -> 100 | Q54: =H54/V54 -> 1.1609029 | R54: 100 | S54: 100 | T54: 13812 | U54: 24915039 | V54: 31462650
A55: 48 | B55: Guaranty Trust Money Market Fund | C55: Guaranty Trust Fund Managers Limited | D55: 5.0207481e+11 | E55: 7.5056523e+09 | F55: 0 | G55: 5.8902793e+08 | H55: =(E55+F55)-G55 -> 6.9166244e+09 | I55: 4.4852913e+11 | J55: =(I55/$I$75) -> 0.078752404 | K55: 4.9278358e+11 | L55: =(K55/$K$75) -> 0.084436862 | M55: =((K55-I55)/I55) -> 0.098665738 | N55: =(G55/K55) -> 0.0011953075 | O55: =H55/K55 -> 0.014035825 | P55: =K55/V55 -> 100 | Q55: =H55/V55 -> 1.4035825 | R55: 100 | S55: 100 | T55: 46926 | U55: 4.4852913e+09 | V55: 4.9278358e+09
A56: 49 | B56: Mango Naira Money Maket Fund | C56: Mango Asset Management Limited | D56: 2.9528102e+09 | E56: 98326688 | G56: 98326688 | H56: =(E56+F56)-G56 -> 0.10000001 | I56: 6.3362073e+09 | J56: =(I56/$I$75) -> 0.0011125065 | K56: 5947919373 | L56: =(K56/$K$75) -> 0.0010191566 | M56: =((K56-I56)/I56) -> -0.061280812 | N56: =(G56/K56) -> 0.016531275 | O56: =H56/K56 -> 1.6812603e-11 | P56: =K56/V56 -> 100 | Q56: =H56/V56 -> 1.6812603e-09 | R56: 100 | S56: 100 | T56: 1014 | U56: 63362073 | V56: 59479194
A57: 50 | B57: Meristem Money Market Fund | C57: Meristem Wealth Management Limited | D57: 1.1886323e+11 | E57: 1.6967813e+09 | F57: 0 | G57: 1.6225909e+08 | H57: =(E57+F57)-G57 -> 1.5345222e+09 | I57: 1.126839e+11 | J57: =(I57/$I$75) -> 0.019784955 | K57: 1.1729415e+11 | L57: =(K57/$K$75) -> 0.02009797 | M57: =((K57-I57)/I57) -> 0.040913065 | N57: =(G57/K57) -> 0.0013833519 | O57: =H57/K57 -> 0.013082683 | P57: =K57/V57 -> 9.9911829 | Q57: =H57/V57 -> 0.13071148 | R57: 10 | S57: 10 | T57: 11404 | U57: 1.1243852e+10 | V57: 1.1739766e+10
A58: 51 | B58: Myrtle Nest(MyNest Money Market Fund) | C58: Myrtle Asset Management and Trust Limited | D58: 4.1270235e+08 | E58: 9135497.5 | F58: 0 | G58: 8147800.8 | H58: =(E58+F58)-G58 -> 987696.66 | I58: 4.4043565e+08 | J58: =(I58/$I$75) -> 7.7331357e-05 | K58: 4.4021818e+08 | L58: =(K58/$K$75) -> 7.5429952e-05 | M58: =((K58-I58)/I58) -> -0.00049374441 | N58: =(G58/K58) -> 0.018508551 | O58: =H58/K58 -> 0.0022436526 | P58: =K58/V58 -> 1.0400461 | Q58: =H58/V58 -> 0.0023335021 | R58: 1 | S58: 1 | T58: 298 | U58: 4.6982561e+08 | V58: 4.2326795e+08
...

Sheet NAV Comparison
A4: FUNDS | B4: Apr 2026 | C4: May 2026
A5: EQUITY BASED FUNDS | B5: 235.55134 | C5: =May!K25/1000000000 -> 262.04604
A6: MONEY MARKET FUNDS | B6: 5695.4341 | C6: =May!K75/1000000000 -> 5836.1191
A7: BONDS/FIXED INCOME FUNDS | B7: 234.6244 | C7: =May!K116/1000000000 -> 233.72033
A8: DOLLAR FUNDS | B8: 1858.7018 | C8: =May!K160/1000000000 -> 1841.4176
A9: REAL ESTATE INVESTMENT TRUST | B9: 526.89377 | C9: =May!K169/1000000000 -> 527.75099
A10: BALANCED FUNDS | B10: 144.17949 | C10: =May!K202/1000000000 -> 157.21305
A11: ETHICAL FUNDS | B11: 19.528485 | C11: =May!K208/1000000000 -> 21.330556
A12: SHARI'AH COMPLAINT FUNDS | B12: 133.72102 | C12: =May!K236/1000000000 -> 143.95374
A13: SPECIALISED FUNDS | B13: 30.829078 | C13: =May!K246/1000000000 -> 31.096845

Sheet Market Share
A1: FUNDS | B1: May 2026
A2: ETHICAL FUNDS | B2: =May!K208 -> 2.1330556e+10
A3: SPECIALISED FUNDS | B3: =May!K246 -> 3.1096845e+10
A4: SHARI'AH COMPLAINT FUNDS | B4: =May!K236 -> 143953744582
A5: EQUITY BASED FUNDS | B5: =May!K25 -> 2.6204604e+11
A6: BALANCED FUNDS | B6: =May!K202 -> 1.5721305e+11
A7: BONDS/FIXED INCOME FUNDS | B7: =May!K116 -> 2.3372033e+11
A8: REAL ESTATE INVESTMENT TRUST | B8: =May!K169 -> 5.2775099e+11
A9: DOLLAR FUNDS | B9: =May!K160 -> 1.8414176e+12
A10: MONEY MARKET FUNDS | B10: =May!K75 -> 5.8361191e+12

Sheet Unitholders
A5: FUNDS | B5: UNIT HOLDERS
A6: EQUITY BASED FUNDS | B6: =May!T25 -> 101141
A7: MONEY MARKET FUNDS | B7: =May!T75 -> 713850
A8: BONDS/FIXED INCOME FUNDS | B8: =May!T116 -> 61681
A9: DOLLAR FUNDS | B9: =May!T160 -> 25866
A10: REAL ESTATE INVESTMENT TRUST | B10: =May!T169 -> 230445
A11: BALANCED FUNDS | B11: =May!T202 -> 93972
A12: ETHICAL FUNDS | B12: =May!T208 -> 15792
A13: SHARI'AH COMPLAINT FUNDS | B13: =May!T236 -> 54271
A14: SPECIALISED FUNDS | B14: =May!T246 -> 153
